BEGIN:VCALENDAR
PRODID:PlannerXE123
VERSION:2.0
CALSCALE:GREGORIAN
METHOD:PUBLISH
BEGIN:VEVENT
DTSTART:20260322
DTEND:20260323
DTSTAMP:20260421T200556Z
UID:(xn--4k0bq8bww1atgn9ke.kr_2118)
CREATED:20260421T200556Z
DESCRIPTION:3월14일*토요일*죽변*왕대구*씨알*마리수*모두*대대박조항 예약전화010-7334-8777 출조회비21만원 이광익&lt;12&gt;명김태풍낚시 3명 6명여유\n\n<a href="http://xn--4k0bq8bww1atgn9ke.kr/reserve/2118?iCal=ics_event&document_srl=2118">원본일정</a>
LOCATION:
SEQUENCE:1
STATUS:CONFIRMED
SUMMARY:죽변왕대구씨알마리수대대대대박
TRANSP:TRANSPARENT
END:VEVENT
END:VCALENDAR
