BEGIN:VCALENDAR
PRODID:PlannerXE123
VERSION:2.0
CALSCALE:GREGORIAN
METHOD:PUBLISH
BEGIN:VEVENT
DTSTART:20260321
DTEND:20260322
DTSTAMP:20260421T200445Z
UID:(xn--4k0bq8bww1atgn9ke.kr_2117)
CREATED:20260421T200445Z
DESCRIPTION:3월14일*토요일*죽변*왕대구*씨알*마리수*모두*대대박조항 예약전화010-7334-8777 출조회비21만원 이광익&lt;12&gt;명김태풍낚시&lt;6명&gt;남은자리2명여유\n\n<a href="http://xn--4k0bq8bww1atgn9ke.kr/reserve/2117?iCal=ics_event&document_srl=2117">원본일정</a>
LOCATION:
SEQUENCE:1
STATUS:CONFIRMED
SUMMARY:죽변왕대구출조대대대대박조항
TRANSP:TRANSPARENT
END:VEVENT
END:VCALENDAR
