BEGIN:VCALENDAR
PRODID:PlannerXE123
VERSION:2.0
CALSCALE:GREGORIAN
METHOD:PUBLISH
BEGIN:VEVENT
DTSTART:20260314
DTEND:20260315
DTSTAMP:20260421T214016Z
UID:(xn--4k0bq8bww1atgn9ke.kr_2114)
CREATED:20260421T214016Z
DESCRIPTION:3월14일*토요일*죽변*왕대구*씨알*마리수*모두*대대박조항 예약전화010-7334-8777 출조회비21만원 이광익&lt;12&gt;명김태풍낚시&lt;6명&gt;남은자리2명\n\n<a href="http://xn--4k0bq8bww1atgn9ke.kr/reserve/2114?document_srl=2114&document_srl=2114">원본일정</a>
LOCATION:
SEQUENCE:1
STATUS:CONFIRMED
SUMMARY:3월4일토요일일죽변왕대구완전대박조항평강호
TRANSP:TRANSPARENT
END:VEVENT
END:VCALENDAR
